BEGIN:VCALENDAR
VERSION:2.0
PRODID:-//Adham Somantrie/AyoLari.in//NONSGML v1.0//EN
CALSCALE:GREGORIAN
BEGIN:VEVENT
UID:8248a99e81e752cb9b41da3fc43fbe7f
DTSTAMP:20260420T063407Z
LOCATION:Jakarta
DESCRIPTION:ayolari.in
URL;VALUE=URI:https://ayolari.in/lomba/the-color-run-hero-tour-2018
SUMMARY:The Color Run Hero Tour 2018
DTSTART;VALUE=DATE;TZID=ASIA-JAKARTA:20180916
DTEND;VALUE=DATE;TZID=ASIA-JAKARTA:20180917
TRANSP:TRANSPARENT
END:VEVENT
END:VCALENDAR