BEGIN:VCALENDAR
VERSION:2.0
PRODID:-//Adham Somantrie/AyoLari.in//NONSGML v1.0//EN
CALSCALE:GREGORIAN
BEGIN:VEVENT
UID:184260348236f9554fe9375772ff966e
DTSTAMP:20260420T023456Z
LOCATION:Depok
DESCRIPTION:ayolari.in
URL;VALUE=URI:https://ayolari.in/lomba/runforiver-mapala-ui-half-marathon-2018
SUMMARY:RunForiver: Mapala UI Half Marathon 2018
DTSTART;VALUE=DATE;TZID=ASIA-JAKARTA:20181007
DTEND;VALUE=DATE;TZID=ASIA-JAKARTA:20181008
TRANSP:TRANSPARENT
END:VEVENT
END:VCALENDAR