BEGIN:VCALENDAR
VERSION:2.0
PRODID:-//Adham Somantrie/AyoLari.in//NONSGML v1.0//EN
CALSCALE:GREGORIAN
BEGIN:VEVENT
UID:801c14f07f9724229175b8ef8b4585a8
DTSTAMP:20260420T021940Z
LOCATION:Tangerang Selatan
DESCRIPTION:ayolari.in
URL;VALUE=URI:https://ayolari.in/lomba/run4u-2018
SUMMARY:RUN4U 2018
DTSTART;VALUE=DATE;TZID=ASIA-JAKARTA:20180729
DTEND;VALUE=DATE;TZID=ASIA-JAKARTA:20180730
TRANSP:TRANSPARENT
END:VEVENT
END:VCALENDAR