BEGIN:VCALENDAR
VERSION:2.0
PRODID:-//Adham Somantrie/AyoLari.in//NONSGML v1.0//EN
CALSCALE:GREGORIAN
BEGIN:VEVENT
UID:47a658229eb2368a99f1d032c8848542
DTSTAMP:20260420T022335Z
LOCATION:Virtual Run
DESCRIPTION:ayolari.in
URL;VALUE=URI:https://ayolari.in/lomba/ramadhan-run-2018
SUMMARY:Ramadhan Run 2018
DTSTART;VALUE=DATE;TZID=ASIA-JAKARTA:20180515
DTEND;VALUE=DATE;TZID=ASIA-JAKARTA:20180516
TRANSP:TRANSPARENT
END:VEVENT
END:VCALENDAR