BEGIN:VCALENDAR
VERSION:2.0
PRODID:-//Adham Somantrie/AyoLari.in//NONSGML v1.0//EN
CALSCALE:GREGORIAN
BEGIN:VEVENT
UID:fd2c5e4680d9a01dba3aada5ece22270
DTSTAMP:20260420T115522Z
LOCATION:Bantul
DESCRIPTION:ayolari.in
URL;VALUE=URI:https://ayolari.in/lomba/jogja-sunset-run
SUMMARY:Jogja Sunset Run
DTSTART;VALUE=DATE;TZID=ASIA-JAKARTA:20180505
DTEND;VALUE=DATE;TZID=ASIA-JAKARTA:20180506
TRANSP:TRANSPARENT
END:VEVENT
END:VCALENDAR