BEGIN:VCALENDAR
VERSION:2.0
PRODID:-//Adham Somantrie/AyoLari.in//NONSGML v1.0//EN
CALSCALE:GREGORIAN
BEGIN:VEVENT
UID:7c9d0b1f96aebd7b5eca8c3edaa19ebb
DTSTAMP:20260420T051054Z
LOCATION:Virtual Run
DESCRIPTION:ayolari.in
URL;VALUE=URI:https://ayolari.in/lomba/indonesia-wayang-series-may-yudhistira
SUMMARY:Indonesia Wayang Series: May - Yudhistira
DTSTART;VALUE=DATE;TZID=ASIA-JAKARTA:20180501
DTEND;VALUE=DATE;TZID=ASIA-JAKARTA:20180502
TRANSP:TRANSPARENT
END:VEVENT
END:VCALENDAR