BEGIN:VCALENDAR
VERSION:2.0
PRODID:-//Adham Somantrie/AyoLari.in//NONSGML v1.0//EN
CALSCALE:GREGORIAN
BEGIN:VEVENT
UID:fd06b8ea02fe5b1c2496fe1700e9d16c
DTSTAMP:20260420T023838Z
LOCATION:Tangerang Selatan
DESCRIPTION:ayolari.in
URL;VALUE=URI:https://ayolari.in/lomba/bintaro-jaya-half-marathon
SUMMARY:Bintaro Jaya Half Marathon
DTSTART;VALUE=DATE;TZID=ASIA-JAKARTA:20181118
DTEND;VALUE=DATE;TZID=ASIA-JAKARTA:20181119
TRANSP:TRANSPARENT
END:VEVENT
END:VCALENDAR