BEGIN:VCALENDAR
VERSION:2.0
PRODID:-//Adham Somantrie/AyoLari.in//NONSGML v1.0//EN
CALSCALE:GREGORIAN
BEGIN:VEVENT
UID:571e0f7e2d992e738adff8b1bd43a521
DTSTAMP:20260421T203352Z
LOCATION:Lembang
DESCRIPTION:ayolari.in
URL;VALUE=URI:https://ayolari.in/lomba/cikotrail-running
SUMMARY:Cikotrail Running
DTSTART;VALUE=DATE;TZID=ASIA-JAKARTA:20180708
DTEND;VALUE=DATE;TZID=ASIA-JAKARTA:20180709
TRANSP:TRANSPARENT
END:VEVENT
END:VCALENDAR