BEGIN:VCALENDAR
VERSION:2.0
PRODID:-//Adham Somantrie/AyoLari.in//NONSGML v1.0//EN
CALSCALE:GREGORIAN
BEGIN:VEVENT
UID:678a1491514b7f1006d605e9161946b1
DTSTAMP:20260420T115314Z
LOCATION:Pasuruan
DESCRIPTION:ayolari.in
URL;VALUE=URI:https://ayolari.in/lomba/safari-run-2018
SUMMARY:Safari Run 2018
DTSTART;VALUE=DATE;TZID=ASIA-JAKARTA:20180506
DTEND;VALUE=DATE;TZID=ASIA-JAKARTA:20180507
TRANSP:TRANSPARENT
END:VEVENT
END:VCALENDAR