BEGIN:VCALENDAR
VERSION:2.0
PRODID:-//Adham Somantrie/AyoLari.in//NONSGML v1.0//EN
CALSCALE:GREGORIAN
BEGIN:VEVENT
UID:ffeed84c7cb1ae7bf4ec4bd78275bb98
DTSTAMP:20260420T115210Z
LOCATION:Virtual Run
DESCRIPTION:ayolari.in
URL;VALUE=URI:https://ayolari.in/lomba/iconic-virtual-run-world-series
SUMMARY:Iconic Virtual Run World Series
DTSTART;VALUE=DATE;TZID=ASIA-JAKARTA:20180505
DTEND;VALUE=DATE;TZID=ASIA-JAKARTA:20180506
TRANSP:TRANSPARENT
END:VEVENT
END:VCALENDAR