BEGIN:VCALENDAR
VERSION:2.0
PRODID:-//Adham Somantrie/AyoLari.in//NONSGML v1.0//EN
CALSCALE:GREGORIAN
BEGIN:VEVENT
UID:3b712de48137572f3849aabd5666a4e3
DTSTAMP:20260420T023455Z
LOCATION:Jakarta
DESCRIPTION:ayolari.in
URL;VALUE=URI:https://ayolari.in/lomba/asics-relay-indonesia-2018
SUMMARY:ASICS Relay Indonesia 2018
DTSTART;VALUE=DATE;TZID=ASIA-JAKARTA:20180804
DTEND;VALUE=DATE;TZID=ASIA-JAKARTA:20180805
TRANSP:TRANSPARENT
END:VEVENT
END:VCALENDAR