BEGIN:VCALENDAR
VERSION:2.0
PRODID:-//Adham Somantrie/AyoLari.in//NONSGML v1.0//EN
CALSCALE:GREGORIAN
BEGIN:VEVENT
UID:8597a6cfa74defcbde3047c891d78f90
DTSTAMP:20260420T023838Z
LOCATION:Ubud
DESCRIPTION:ayolari.in
URL;VALUE=URI:https://ayolari.in/lomba/kilo-run-bali
SUMMARY:Kilo Run Bali
DTSTART;VALUE=DATE;TZID=ASIA-JAKARTA:20180602
DTEND;VALUE=DATE;TZID=ASIA-JAKARTA:20180603
TRANSP:TRANSPARENT
END:VEVENT
END:VCALENDAR