BEGIN:VCALENDAR
VERSION:2.0
PRODID:-//Adham Somantrie/AyoLari.in//NONSGML v1.0//EN
CALSCALE:GREGORIAN
BEGIN:VEVENT
UID:0eec27c419d0fe24e53c90338cdc8bc6
DTSTAMP:20260420T021946Z
LOCATION:Jakarta
DESCRIPTION:ayolari.in
URL;VALUE=URI:https://ayolari.in/lomba/mag-run-2018
SUMMARY:MAG Run2018
DTSTART;VALUE=DATE;TZID=ASIA-JAKARTA:20181014
DTEND;VALUE=DATE;TZID=ASIA-JAKARTA:20181015
TRANSP:TRANSPARENT
END:VEVENT
END:VCALENDAR