BEGIN:VCALENDAR
VERSION:2.0
PRODID:-//Adham Somantrie/AyoLari.in//NONSGML v1.0//EN
CALSCALE:GREGORIAN
BEGIN:VEVENT
UID:dd77279f7d325eec933f05b1672f6a1f
DTSTAMP:20260421T204530Z
LOCATION:Denpasar
DESCRIPTION:ayolari.in
URL;VALUE=URI:https://ayolari.in/lomba/yamaha-lexi-heritage-fun-run-3km-5km
SUMMARY:Yamaha Lexi Heritage Fun Run 3Km & 5Km
DTSTART;VALUE=DATE;TZID=ASIA-JAKARTA:20180422
DTEND;VALUE=DATE;TZID=ASIA-JAKARTA:20180423
TRANSP:TRANSPARENT
END:VEVENT
END:VCALENDAR