BEGIN:VCALENDAR
VERSION:2.0
PRODID:-//Adham Somantrie/AyoLari.in//NONSGML v1.0//EN
CALSCALE:GREGORIAN
BEGIN:VEVENT
UID:b9d487a30398d42ecff55c228ed5652b
DTSTAMP:20260420T081618Z
LOCATION:Surabaya
DESCRIPTION:ayolari.in
URL;VALUE=URI:https://ayolari.in/lomba/infobank-soekarno-run
SUMMARY:Infobank - Soekarno Run
DTSTART;VALUE=DATE;TZID=ASIA-JAKARTA:20181110
DTEND;VALUE=DATE;TZID=ASIA-JAKARTA:20181111
TRANSP:TRANSPARENT
END:VEVENT
END:VCALENDAR