BEGIN:VCALENDAR
VERSION:2.0
PRODID:-//Adham Somantrie/AyoLari.in//NONSGML v1.0//EN
CALSCALE:GREGORIAN
BEGIN:VEVENT
UID:4da04049a062f5adfe81b67dd755cecc
DTSTAMP:20260420T023838Z
LOCATION:Makassar
DESCRIPTION:ayolari.in
URL;VALUE=URI:https://ayolari.in/lomba/air-force-run-2018-sultan-hasanuddin-makassar
SUMMARY:Air Force Run 2018 Sultan Hasanuddin Makassar
DTSTART;VALUE=DATE;TZID=ASIA-JAKARTA:20180428
DTEND;VALUE=DATE;TZID=ASIA-JAKARTA:20180429
TRANSP:TRANSPARENT
END:VEVENT
END:VCALENDAR