BEGIN:VCALENDAR
VERSION:2.0
PRODID:-//Adham Somantrie/AyoLari.in//NONSGML v1.0//EN
CALSCALE:GREGORIAN
BEGIN:VEVENT
UID:c667d53acd899a97a85de0c201ba99be
DTSTAMP:20260420T061513Z
LOCATION:Surabaya
DESCRIPTION:ayolari.in
URL;VALUE=URI:https://ayolari.in/lomba/surabaya-marathon-2018
SUMMARY:Surabaya Marathon 2018
DTSTART;VALUE=DATE;TZID=ASIA-JAKARTA:20180812
DTEND;VALUE=DATE;TZID=ASIA-JAKARTA:20180813
TRANSP:TRANSPARENT
END:VEVENT
END:VCALENDAR