BEGIN:VCALENDAR
VERSION:2.0
PRODID:-//Adham Somantrie/AyoLari.in//NONSGML v1.0//EN
CALSCALE:GREGORIAN
BEGIN:VEVENT
UID:db2b4182156b2f1f817860ac9f409ad7
DTSTAMP:20260420T022338Z
LOCATION:Jakarta
DESCRIPTION:ayolari.in
URL;VALUE=URI:https://ayolari.in/lomba/bubble-color-run
SUMMARY:Bubble Color Run
DTSTART;VALUE=DATE;TZID=ASIA-JAKARTA:20180415
DTEND;VALUE=DATE;TZID=ASIA-JAKARTA:20180416
TRANSP:TRANSPARENT
END:VEVENT
END:VCALENDAR