BEGIN:VCALENDAR
VERSION:2.0
PRODID:-//Adham Somantrie/AyoLari.in//NONSGML v1.0//EN
CALSCALE:GREGORIAN
BEGIN:VEVENT
UID:4e2545f819e67f0615003dd7e04a6087
DTSTAMP:20260420T094824Z
LOCATION:Yogyakarta
DESCRIPTION:ayolari.in
URL;VALUE=URI:https://ayolari.in/lomba/pasopati-fight-run-10k
SUMMARY:Pasopati Fight Run 10K
DTSTART;VALUE=DATE;TZID=ASIA-JAKARTA:20180506
DTEND;VALUE=DATE;TZID=ASIA-JAKARTA:20180507
TRANSP:TRANSPARENT
END:VEVENT
END:VCALENDAR