BEGIN:VCALENDAR
VERSION:2.0
PRODID:-//Adham Somantrie/AyoLari.in//NONSGML v1.0//EN
CALSCALE:GREGORIAN
BEGIN:VEVENT
UID:41bfd20a38bb1b0bec75acf0845530a7
DTSTAMP:20260420T094650Z
LOCATION:Virtual Run
DESCRIPTION:ayolari.in
URL;VALUE=URI:https://ayolari.in/lomba/honda-bali-pcx-150k-v-run-99-virtual-race
SUMMARY:Honda Bali PCX 150K V-Run 99 Virtual Race
DTSTART;VALUE=DATE;TZID=ASIA-JAKARTA:20180513
DTEND;VALUE=DATE;TZID=ASIA-JAKARTA:20180514
TRANSP:TRANSPARENT
END:VEVENT
END:VCALENDAR