BEGIN:VCALENDAR
VERSION:2.0
PRODID:-//Adham Somantrie/AyoLari.in//NONSGML v1.0//EN
CALSCALE:GREGORIAN
BEGIN:VEVENT
UID:6a2feef8ed6a9fe76d6b3f30f02150b4
DTSTAMP:20260421T203759Z
LOCATION:Tangerang
DESCRIPTION:ayolari.in
URL;VALUE=URI:https://ayolari.in/lomba/gemetarun
SUMMARY:GemetaRun
DTSTART;VALUE=DATE;TZID=ASIA-JAKARTA:20180505
DTEND;VALUE=DATE;TZID=ASIA-JAKARTA:20180506
TRANSP:TRANSPARENT
END:VEVENT
END:VCALENDAR