BEGIN:VCALENDAR
VERSION:2.0
PRODID:-//Adham Somantrie/AyoLari.in//NONSGML v1.0//EN
CALSCALE:GREGORIAN
BEGIN:VEVENT
UID:8b4066554730ddfaa0266346bdc1b202
DTSTAMP:20260420T040815Z
LOCATION:Depok
DESCRIPTION:ayolari.in
URL;VALUE=URI:https://ayolari.in/lomba/hfgm-night-run-for-charity
SUMMARY:HFGM Night Run for Charity
DTSTART;VALUE=DATE;TZID=ASIA-JAKARTA:20180428
DTEND;VALUE=DATE;TZID=ASIA-JAKARTA:20180429
TRANSP:TRANSPARENT
END:VEVENT
END:VCALENDAR