BEGIN:VCALENDAR
VERSION:2.0
PRODID:-//Adham Somantrie/AyoLari.in//NONSGML v1.0//EN
CALSCALE:GREGORIAN
BEGIN:VEVENT
UID:03f544613917945245041ea1581df0c2
DTSTAMP:20260420T023750Z
LOCATION:Bogor
DESCRIPTION:ayolari.in
URL;VALUE=URI:https://ayolari.in/lomba/djampang-charity-run
SUMMARY:Djampang Charity Run
DTSTART;VALUE=DATE;TZID=ASIA-JAKARTA:20180729
DTEND;VALUE=DATE;TZID=ASIA-JAKARTA:20180730
TRANSP:TRANSPARENT
END:VEVENT
END:VCALENDAR