BEGIN:VCALENDAR
VERSION:2.0
PRODID:-//Adham Somantrie/AyoLari.in//NONSGML v1.0//EN
CALSCALE:GREGORIAN
BEGIN:VEVENT
UID:b1563a78ec59337587f6ab6397699afc
DTSTAMP:20260420T081349Z
LOCATION:Jakarta
DESCRIPTION:ayolari.in
URL;VALUE=URI:https://ayolari.in/lomba/sekar-telkom-fun-run-2018
SUMMARY:Sekar Telkom Fun Run 2018
DTSTART;VALUE=DATE;TZID=ASIA-JAKARTA:20180408
DTEND;VALUE=DATE;TZID=ASIA-JAKARTA:20180409
TRANSP:TRANSPARENT
END:VEVENT
END:VCALENDAR