BEGIN:VCALENDAR
VERSION:2.0
PRODID:-//Adham Somantrie/AyoLari.in//NONSGML v1.0//EN
CALSCALE:GREGORIAN
BEGIN:VEVENT
UID:d91d1b4d82419de8a614abce9cc0e6d4
DTSTAMP:20260420T063451Z
LOCATION:Tangerang
DESCRIPTION:ayolari.in
URL;VALUE=URI:https://ayolari.in/lomba/5k-charity-color-run-together-against-cancer
SUMMARY:5K Charity Color Run - Together Against Cancer
DTSTART;VALUE=DATE;TZID=ASIA-JAKARTA:20180513
DTEND;VALUE=DATE;TZID=ASIA-JAKARTA:20180514
TRANSP:TRANSPARENT
END:VEVENT
END:VCALENDAR