BEGIN:VCALENDAR
VERSION:2.0
PRODID:-//Adham Somantrie/AyoLari.in//NONSGML v1.0//EN
CALSCALE:GREGORIAN
BEGIN:VEVENT
UID:818f4654ed39a1c147d1e51a00ffb4cb
DTSTAMP:20260420T045150Z
LOCATION:Jakarta
DESCRIPTION:ayolari.in
URL;VALUE=URI:https://ayolari.in/lomba/liverun
SUMMARY:Liverun
DTSTART;VALUE=DATE;TZID=ASIA-JAKARTA:20180415
DTEND;VALUE=DATE;TZID=ASIA-JAKARTA:20180416
TRANSP:TRANSPARENT
END:VEVENT
END:VCALENDAR