BEGIN:VCALENDAR
VERSION:2.0
PRODID:-//Adham Somantrie/AyoLari.in//NONSGML v1.0//EN
CALSCALE:GREGORIAN
BEGIN:VEVENT
UID:522a9ae9a99880d39e5daec35375e999
DTSTAMP:20260420T022342Z
LOCATION:Bandung
DESCRIPTION:ayolari.in
URL;VALUE=URI:https://ayolari.in/lomba/unity-run
SUMMARY:Unity Run
DTSTART;VALUE=DATE;TZID=ASIA-JAKARTA:20180429
DTEND;VALUE=DATE;TZID=ASIA-JAKARTA:20180430
TRANSP:TRANSPARENT
END:VEVENT
END:VCALENDAR