BEGIN:VCALENDAR
VERSION:2.0
PRODID:-//Adham Somantrie/AyoLari.in//NONSGML v1.0//EN
CALSCALE:GREGORIAN
BEGIN:VEVENT
UID:8a1e808b55fde9455cb3d8857ed88389
DTSTAMP:20260420T182434Z
LOCATION:Jakarta
DESCRIPTION:ayolari.in
URL;VALUE=URI:https://ayolari.in/lomba/jakarta-marathon-city-2018
SUMMARY:Mandiri Jakarta City Marathon 2018
DTSTART;VALUE=DATE;TZID=ASIA-JAKARTA:20181021
DTEND;VALUE=DATE;TZID=ASIA-JAKARTA:20181022
TRANSP:TRANSPARENT
END:VEVENT
END:VCALENDAR