BEGIN:VCALENDAR
VERSION:2.0
PRODID:-//Adham Somantrie/AyoLari.in//NONSGML v1.0//EN
CALSCALE:GREGORIAN
BEGIN:VEVENT
UID:dc58e3a306451c9d670adcd37004f48f
DTSTAMP:20260420T081741Z
LOCATION:Jakarta
DESCRIPTION:ayolari.in
URL;VALUE=URI:https://ayolari.in/lomba/peduli-tuli-charity-run
SUMMARY:Peduli Tuli Charity Run
DTSTART;VALUE=DATE;TZID=ASIA-JAKARTA:20180325
DTEND;VALUE=DATE;TZID=ASIA-JAKARTA:20180326
TRANSP:TRANSPARENT
END:VEVENT
END:VCALENDAR