BEGIN:VCALENDAR
VERSION:2.0
PRODID:-//Adham Somantrie/AyoLari.in//NONSGML v1.0//EN
CALSCALE:GREGORIAN
BEGIN:VEVENT
UID:fc2c7c47b918d0c2d792a719dfb602ef
DTSTAMP:20260420T022840Z
LOCATION:Bintan\, Kepulauan Riau
DESCRIPTION:ayolari.in
URL;VALUE=URI:https://ayolari.in/lomba/eco-run-mapur-island
SUMMARY:Eco Run Mapur Island
DTSTART;VALUE=DATE;TZID=ASIA-JAKARTA:20180505
DTEND;VALUE=DATE;TZID=ASIA-JAKARTA:20180506
TRANSP:TRANSPARENT
END:VEVENT
END:VCALENDAR