BEGIN:VCALENDAR
VERSION:2.0
PRODID:-//Adham Somantrie/AyoLari.in//NONSGML v1.0//EN
CALSCALE:GREGORIAN
BEGIN:VEVENT
UID:6c340f25839e6acdc73414517203f5f0
DTSTAMP:20260420T050159Z
LOCATION:Indonesia
DESCRIPTION:ayolari.in
URL;VALUE=URI:https://ayolari.in/lomba/iconic-virtual-run
SUMMARY:Iconic Virtual Run
DTSTART;VALUE=DATE;TZID=ASIA-JAKARTA:20180307
DTEND;VALUE=DATE;TZID=ASIA-JAKARTA:20180308
TRANSP:TRANSPARENT
END:VEVENT
END:VCALENDAR