BEGIN:VCALENDAR
VERSION:2.0
PRODID:-//Adham Somantrie/AyoLari.in//NONSGML v1.0//EN
CALSCALE:GREGORIAN
BEGIN:VEVENT
UID:cd89fef7ffdd490db800357f47722b20
DTSTAMP:20260420T051101Z
LOCATION:Toba
DESCRIPTION:ayolari.in
URL;VALUE=URI:https://ayolari.in/lomba/samosir-lake-toba-ultra-2018
SUMMARY:Samosir Lake Toba Ultra 2018
DTSTART;VALUE=DATE;TZID=ASIA-JAKARTA:20180922
DTEND;VALUE=DATE;TZID=ASIA-JAKARTA:20180923
TRANSP:TRANSPARENT
END:VEVENT
END:VCALENDAR