BEGIN:VCALENDAR
VERSION:2.0
PRODID:-//Adham Somantrie/AyoLari.in//NONSGML v1.0//EN
CALSCALE:GREGORIAN
BEGIN:VEVENT
UID:53c04118df112c13a8c34b38343b9c10
DTSTAMP:20260420T051335Z
LOCATION:Virtual Run
DESCRIPTION:ayolari.in
URL;VALUE=URI:https://ayolari.in/lomba/music-run-virtual-race
SUMMARY:Music Run Virtual Race
DTSTART;VALUE=DATE;TZID=ASIA-JAKARTA:20180311
DTEND;VALUE=DATE;TZID=ASIA-JAKARTA:20180312
TRANSP:TRANSPARENT
END:VEVENT
END:VCALENDAR