BEGIN:VCALENDAR
VERSION:2.0
PRODID:-//Adham Somantrie/AyoLari.in//NONSGML v1.0//EN
CALSCALE:GREGORIAN
BEGIN:VEVENT
UID:7cce53cf90577442771720a370c3c723
DTSTAMP:20260420T115209Z
LOCATION:Depok
DESCRIPTION:ayolari.in
URL;VALUE=URI:https://ayolari.in/lomba/ui-half-marathon-2018
SUMMARY:UI Half Marathon 2018
DTSTART;VALUE=DATE;TZID=ASIA-JAKARTA:20180715
DTEND;VALUE=DATE;TZID=ASIA-JAKARTA:20180716
TRANSP:TRANSPARENT
END:VEVENT
END:VCALENDAR