BEGIN:VCALENDAR
VERSION:2.0
PRODID:-//Adham Somantrie/AyoLari.in//NONSGML v1.0//EN
CALSCALE:GREGORIAN
BEGIN:VEVENT
UID:1579779b98ce9edb98dd85606f2c119d
DTSTAMP:20260420T061531Z
LOCATION:Yogyakarta
DESCRIPTION:ayolari.in
URL;VALUE=URI:https://ayolari.in/lomba/dental-project-2018-runnation
SUMMARY:Dental Project 2018: RUNNATION
DTSTART;VALUE=DATE;TZID=ASIA-JAKARTA:20180311
DTEND;VALUE=DATE;TZID=ASIA-JAKARTA:20180312
TRANSP:TRANSPARENT
END:VEVENT
END:VCALENDAR