BEGIN:VCALENDAR
VERSION:2.0
PRODID:-//Adham Somantrie/AyoLari.in//NONSGML v1.0//EN
CALSCALE:GREGORIAN
BEGIN:VEVENT
UID:a0e2a2c563d57df27213ede1ac4ac780
DTSTAMP:20260420T021843Z
LOCATION:Balikpapan
DESCRIPTION:ayolari.in
URL;VALUE=URI:https://ayolari.in/lomba/wikarun-10k
SUMMARY:WikaRun 10k
DTSTART;VALUE=DATE;TZID=ASIA-JAKARTA:20180325
DTEND;VALUE=DATE;TZID=ASIA-JAKARTA:20180326
TRANSP:TRANSPARENT
END:VEVENT
END:VCALENDAR