BEGIN:VCALENDAR
VERSION:2.0
PRODID:-//Adham Somantrie/AyoLari.in//NONSGML v1.0//EN
CALSCALE:GREGORIAN
BEGIN:VEVENT
UID:537d9b6c927223c796cac288cced29df
DTSTAMP:20260420T023456Z
LOCATION:Tangerang Selatan
DESCRIPTION:ayolari.in
URL;VALUE=URI:https://ayolari.in/lomba/2xu-compression-run-indonesia-2018
SUMMARY:2XU Compression Run Indonesia 2018
DTSTART;VALUE=DATE;TZID=ASIA-JAKARTA:20181202
DTEND;VALUE=DATE;TZID=ASIA-JAKARTA:20181203
TRANSP:TRANSPARENT
END:VEVENT
END:VCALENDAR