BEGIN:VCALENDAR
VERSION:2.0
PRODID:-//Adham Somantrie/AyoLari.in//NONSGML v1.0//EN
CALSCALE:GREGORIAN
BEGIN:VEVENT
UID:27ed0fb950b856b06e1273989422e7d3
DTSTAMP:20260420T021843Z
LOCATION:Maros\, Sulawesi Selatan
DESCRIPTION:ayolari.in
URL;VALUE=URI:https://ayolari.in/lomba/maros10k
SUMMARY:Maros 10K
DTSTART;VALUE=DATE;TZID=ASIA-JAKARTA:20180708
DTEND;VALUE=DATE;TZID=ASIA-JAKARTA:20180709
TRANSP:TRANSPARENT
END:VEVENT
END:VCALENDAR