BEGIN:VCALENDAR
VERSION:2.0
PRODID:-//Adham Somantrie/AyoLari.in//NONSGML v1.0//EN
CALSCALE:GREGORIAN
BEGIN:VEVENT
UID:a34bacf839b923770b2c360eefa26748
DTSTAMP:20260421T215341Z
LOCATION:Jakarta
DESCRIPTION:ayolari.in
URL;VALUE=URI:https://ayolari.in/lomba/wilio-run-2018
SUMMARY:Wilio Run 2018
DTSTART;VALUE=DATE;TZID=ASIA-JAKARTA:20181111
DTEND;VALUE=DATE;TZID=ASIA-JAKARTA:20181112
TRANSP:TRANSPARENT
END:VEVENT
END:VCALENDAR