BEGIN:VCALENDAR
VERSION:2.0
PRODID:-//Adham Somantrie/AyoLari.in//NONSGML v1.0//EN
CALSCALE:GREGORIAN
BEGIN:VEVENT
UID:e17184bcb70dcf3942c54e0b537ffc6d
DTSTAMP:20260420T023752Z
LOCATION:Kediri
DESCRIPTION:ayolari.in
URL;VALUE=URI:https://ayolari.in/lomba/kelud-volcano-road-run-2018
SUMMARY:Kelud Volcano Road Run 2018
DTSTART;VALUE=DATE;TZID=ASIA-JAKARTA:20180923
DTEND;VALUE=DATE;TZID=ASIA-JAKARTA:20180924
TRANSP:TRANSPARENT
END:VEVENT
END:VCALENDAR