BEGIN:VCALENDAR
VERSION:2.0
PRODID:-//Adham Somantrie/AyoLari.in//NONSGML v1.0//EN
CALSCALE:GREGORIAN
BEGIN:VEVENT
UID:e515df0d202ae52fcebb14295743063b
DTSTAMP:20260420T081720Z
LOCATION:Tangerang
DESCRIPTION:ayolari.in
URL;VALUE=URI:https://ayolari.in/lomba/paw-jog-2018
SUMMARY:Paw Jog 2018
DTSTART;VALUE=DATE;TZID=ASIA-JAKARTA:20180225
DTEND;VALUE=DATE;TZID=ASIA-JAKARTA:20180226
TRANSP:TRANSPARENT
END:VEVENT
END:VCALENDAR