BEGIN:VCALENDAR
VERSION:2.0
PRODID:-//Adham Somantrie/AyoLari.in//NONSGML v1.0//EN
CALSCALE:GREGORIAN
BEGIN:VEVENT
UID:84d2004bf28a2095230e8e14993d398d
DTSTAMP:20260420T023752Z
LOCATION:Tangerang Selatan
DESCRIPTION:ayolari.in
URL;VALUE=URI:https://ayolari.in/lomba/bintaro-loop-120k
SUMMARY:Bintaro Loop 120K
DTSTART;VALUE=DATE;TZID=ASIA-JAKARTA:20180317
DTEND;VALUE=DATE;TZID=ASIA-JAKARTA:20180318
TRANSP:TRANSPARENT
END:VEVENT
END:VCALENDAR