BEGIN:VCALENDAR
VERSION:2.0
PRODID:-//Adham Somantrie/AyoLari.in//NONSGML v1.0//EN
CALSCALE:GREGORIAN
BEGIN:VEVENT
UID:883e881bb4d22a7add958f2d6b052c9f
DTSTAMP:20260420T081232Z
LOCATION:Jakarta
DESCRIPTION:ayolari.in
URL;VALUE=URI:https://ayolari.in/lomba/cc5k-2018
SUMMARY:CC5K 2018
DTSTART;VALUE=DATE;TZID=ASIA-JAKARTA:20180428
DTEND;VALUE=DATE;TZID=ASIA-JAKARTA:20180429
TRANSP:TRANSPARENT
END:VEVENT
END:VCALENDAR