BEGIN:VCALENDAR
VERSION:2.0
PRODID:-//Adham Somantrie/AyoLari.in//NONSGML v1.0//EN
CALSCALE:GREGORIAN
BEGIN:VEVENT
UID:24146db4eb48c718b84cae0a0799dcfc
DTSTAMP:20260420T081034Z
LOCATION:Palu
DESCRIPTION:ayolari.in
URL;VALUE=URI:https://ayolari.in/lomba/central-celebes-marathon
SUMMARY:Central Celebes Marathon
DTSTART;VALUE=DATE;TZID=ASIA-JAKARTA:20180415
DTEND;VALUE=DATE;TZID=ASIA-JAKARTA:20180416
TRANSP:TRANSPARENT
END:VEVENT
END:VCALENDAR