BEGIN:VCALENDAR
VERSION:2.0
PRODID:-//Adham Somantrie/AyoLari.in//NONSGML v1.0//EN
CALSCALE:GREGORIAN
BEGIN:VEVENT
UID:021bbc7ee20b71134d53e20206bd6feb
DTSTAMP:20260420T081033Z
LOCATION:Medan
DESCRIPTION:ayolari.in
URL;VALUE=URI:https://ayolari.in/lomba/medan-kulinerun-2018
SUMMARY:Medan KulineRUN 2018
DTSTART;VALUE=DATE;TZID=ASIA-JAKARTA:20180404
DTEND;VALUE=DATE;TZID=ASIA-JAKARTA:20180405
TRANSP:TRANSPARENT
END:VEVENT
END:VCALENDAR