BEGIN:VCALENDAR
VERSION:2.0
PRODID:-//Adham Somantrie/AyoLari.in//NONSGML v1.0//EN
CALSCALE:GREGORIAN
BEGIN:VEVENT
UID:93d65641ff3f1586614cf2c1ad240b6c
DTSTAMP:20260420T023750Z
LOCATION:Tangerang
DESCRIPTION:ayolari.in
URL;VALUE=URI:https://ayolari.in/lomba/anyo-charity-run-2018
SUMMARY:ANYO Charity Run 2018
DTSTART;VALUE=DATE;TZID=ASIA-JAKARTA:20180310
DTEND;VALUE=DATE;TZID=ASIA-JAKARTA:20180311
TRANSP:TRANSPARENT
END:VEVENT
END:VCALENDAR