BEGIN:VCALENDAR
VERSION:2.0
PRODID:-//Adham Somantrie/AyoLari.in//NONSGML v1.0//EN
CALSCALE:GREGORIAN
BEGIN:VEVENT
UID:5d616dd38211ebb5d6ec52986674b6e4
DTSTAMP:20260420T063213Z
LOCATION:Tangerang
DESCRIPTION:ayolari.in
URL;VALUE=URI:https://ayolari.in/lomba/yolo-run-jakarta
SUMMARY:YOLO Run Jakarta
DTSTART;VALUE=DATE;TZID=ASIA-JAKARTA:20180701
DTEND;VALUE=DATE;TZID=ASIA-JAKARTA:20180702
TRANSP:TRANSPARENT
END:VEVENT
END:VCALENDAR