BEGIN:VCALENDAR
VERSION:2.0
PRODID:-//Adham Somantrie/AyoLari.in//NONSGML v1.0//EN
CALSCALE:GREGORIAN
BEGIN:VEVENT
UID:6b180037abbebea991d8b1232f8a8ca9
DTSTAMP:20260421T203632Z
LOCATION:Bintan
DESCRIPTION:ayolari.in
URL;VALUE=URI:https://ayolari.in/lomba/bintan-triathlon-2018-ce1f
SUMMARY:Bintan Triathlon 2018
DTSTART;VALUE=DATE;TZID=ASIA-JAKARTA:20180511
DTEND;VALUE=DATE;TZID=ASIA-JAKARTA:20180512
TRANSP:TRANSPARENT
END:VEVENT
END:VCALENDAR