BEGIN:VCALENDAR
VERSION:2.0
PRODID:-//Adham Somantrie/AyoLari.in//NONSGML v1.0//EN
CALSCALE:GREGORIAN
BEGIN:VEVENT
UID:f33ba15effa5c10e873bf3842afb46a6
DTSTAMP:20260420T050422Z
LOCATION:Toraja
DESCRIPTION:ayolari.in
URL;VALUE=URI:https://ayolari.in/lomba/toraja-marathon-2018
SUMMARY:Toraja Marathon 2018
DTSTART;VALUE=DATE;TZID=ASIA-JAKARTA:20181020
DTEND;VALUE=DATE;TZID=ASIA-JAKARTA:20181021
TRANSP:TRANSPARENT
END:VEVENT
END:VCALENDAR