BEGIN:VCALENDAR
VERSION:2.0
PRODID:-//Adham Somantrie/AyoLari.in//NONSGML v1.0//EN
CALSCALE:GREGORIAN
BEGIN:VEVENT
UID:31b3b31a1c2f8a370206f111127c0dbd
DTSTAMP:20260420T081237Z
LOCATION:Virtual Run
DESCRIPTION:ayolari.in
URL;VALUE=URI:https://ayolari.in/lomba/pacitan-bangkit-run
SUMMARY:Pacitan Bangkit Run
DTSTART;VALUE=DATE;TZID=ASIA-JAKARTA:20180301
DTEND;VALUE=DATE;TZID=ASIA-JAKARTA:20180302
TRANSP:TRANSPARENT
END:VEVENT
END:VCALENDAR